BEGIN:VCALENDAR
VERSION:2.0
PRODID:-//Women in Leadership Alumnae - Berkeley Haas - ECPv6.3.6//NONSGML v1.0//EN
CALSCALE:GREGORIAN
METHOD:PUBLISH
X-WR-CALNAME:Women in Leadership Alumnae - Berkeley Haas
X-ORIGINAL-URL:https://wila.haasalumni.org
X-WR-CALDESC:Events for Women in Leadership Alumnae - Berkeley Haas
REFRESH-INTERVAL;VALUE=DURATION:PT1H
X-Robots-Tag:noindex
X-PUBLISHED-TTL:PT1H
BEGIN:VTIMEZONE
TZID:America/Los_Angeles
BEGIN:DAYLIGHT
TZOFFSETFROM:-0800
TZOFFSETTO:-0700
TZNAME:PDT
DTSTART:20220313T100000
END:DAYLIGHT
BEGIN:STANDARD
TZOFFSETFROM:-0700
TZOFFSETTO:-0800
TZNAME:PST
DTSTART:20221106T090000
END:STANDARD
END:VTIMEZONE
BEGIN:VEVENT
DTSTART;TZID=America/Los_Angeles:20220514T113000
DTEND;TZID=America/Los_Angeles:20220514T130000
DTSTAMP:20260419T101007
CREATED:20220403T063635Z
LAST-MODIFIED:20220414T020423Z
UID:8089-1652527800-1652533200@wila.haasalumni.org
SUMMARY:WILA Pizza Brunch in San Diego
DESCRIPTION:Register at the Event Website by Tuesday May 10\, 2022. Berkeley Haas alumnae and current students are welcome to register.
URL:https://wila.haasalumni.org/event/pizza-brunch-sock-drive/
LOCATION:Urbn One Paseo\, 12895 Paseo Village Way\, Suite 1200\, San Diego\, CA\, 92130\, United States
CATEGORIES:San Diego Event
ATTACH;FMTTYPE=image/png:https://wila.haasalumni.org/files/2022/04/Untitled-263.png
ORGANIZER;CN="Berkeley Haas Women in Leadership Alumnae":MAILTO:wila@haas.berkeley.edu
END:VEVENT
END:VCALENDAR