BEGIN:VCALENDAR
VERSION:2.0
PRODID:-//Women in Leadership Alumnae - Berkeley Haas - ECPv6.3.6//NONSGML v1.0//EN
CALSCALE:GREGORIAN
METHOD:PUBLISH
X-WR-CALNAME:Women in Leadership Alumnae - Berkeley Haas
X-ORIGINAL-URL:https://wila.haasalumni.org
X-WR-CALDESC:Events for Women in Leadership Alumnae - Berkeley Haas
REFRESH-INTERVAL;VALUE=DURATION:PT1H
X-Robots-Tag:noindex
X-PUBLISHED-TTL:PT1H
BEGIN:VTIMEZONE
TZID:America/Los_Angeles
BEGIN:DAYLIGHT
TZOFFSETFROM:-0800
TZOFFSETTO:-0700
TZNAME:PDT
DTSTART:20220313T100000
END:DAYLIGHT
BEGIN:STANDARD
TZOFFSETFROM:-0700
TZOFFSETTO:-0800
TZNAME:PST
DTSTART:20221106T090000
END:STANDARD
TZID:Europe/London
BEGIN:DAYLIGHT
TZOFFSETFROM:+0000
TZOFFSETTO:+0100
TZNAME:BST
DTSTART:20220327T010000
END:DAYLIGHT
BEGIN:STANDARD
TZOFFSETFROM:+0100
TZOFFSETTO:+0000
TZNAME:GMT
DTSTART:20221030T010000
END:STANDARD
END:VTIMEZONE
BEGIN:VEVENT
DTSTART;TZID=America/Los_Angeles:20220403T113000
DTEND;TZID=America/Los_Angeles:20220403T130000
DTSTAMP:20260419T112332
CREATED:20220402T222816Z
LAST-MODIFIED:20220402T232138Z
UID:7948-1648985400-1648990800@wila.haasalumni.org
SUMMARY:WILA Brunch in San Francisco
DESCRIPTION:This event is SOLD OUT! You can join the waiting list. The Berkeley Haas Women in Leadership Alumnae (WILA) will be holding an intimate brunch session to get to know fellow Haas alumnae and learn more about WILA.  Space is limited as we have a set reservation\, so please register soon. Please note brunch will be self-funded.  Please contact WILA Board members Sahar Kleinman (saharkleinman@berkeley.edu) or Jean Brinker (jean_brinker@berkeley.edu) with any questions.
URL:https://wila.haasalumni.org/event/wila-brunch-in-san-francisco/
LOCATION:Sessions at the Presidio\, 1 Letterman Dr\, San Francisco\, CA\, 94129\, United States
CATEGORIES:San Francisco Bay Area Event
ORGANIZER;CN="Berkeley Haas Women in Leadership Alumnae":MAILTO:wila@haas.berkeley.edu
END:VEVENT
BEGIN:VEVENT
DTSTART;TZID=Europe/London:20220429T180000
DTEND;TZID=Europe/London:20220429T203000
DTSTAMP:20260419T112332
CREATED:20220414T014119Z
LAST-MODIFIED:20220414T020302Z
UID:9785-1651255200-1651264200@wila.haasalumni.org
SUMMARY:WILA Dinner in London
DESCRIPTION:Join us for an intimate dinner in London at the Brunswick House Restaurant  on Friday April 29th from 6:00 pm to 8:30 pm BST to celebrate the launch of the first ever Berkeley Haas women group – Women in Leadership Alumnae (WILA). \nRegister at Eventbrite. \nWe are lucky to have WILA’s Co-Vice President and Board Member Dimple Mathradas visiting London from the Bay Area to host this event during Haas’ Alumni Reunion Weekend to bring the Cal vibe to the UK. \nWe look forward to kicking off the long weekend by: \n\nBonding with fellow female Haas Alums in a beautiful atmosphere\nLearning how WILA can support you in your career and life goals\nRecruiting volunteers who would like to be involved in WILA globally\nCelebrating everything that sits at the intersection of Female and Haas\n\nSpace is limited to the first 10 who register so please ensure that you are able to make it before registering and if you must cancel\, please do so ASAP so we could accommodate those on the waitlist. \n*Note: Dinner/drinks will be self-funded. \nContact for Questions: \n\nWILA Board member Dimple Mathradas dm2145@berkeley.edu\nHAN London Board Member Helen Fan yfan0430@gmail.com\n\nLaunched in 2021\, Women in Leadership Alumnae (WILA) is a network of Haas alumnae committed to creating a space for women to have authentic and compassionate exchanges on their professional and personal journey. Please sign up on our website to join our mailing list to stay up to date on all things WILA.
URL:https://wila.haasalumni.org/event/haas-women-in-leadership-alumnae-wila-dinner-in-london/
LOCATION:Brunswick House Restaurant\, 30 Wandsworth Road\, London\, SW8 2LG\, United Kingdom
CATEGORIES:London Event
ATTACH;FMTTYPE=image/jpeg:https://wila.haasalumni.org/files/2022/04/https___cdn.evbuc_.com_images_265954689_570753740659_1_original.jpeg
ORGANIZER;CN="Berkeley Haas Women in Leadership Alumnae":MAILTO:wila@haas.berkeley.edu
END:VEVENT
BEGIN:VEVENT
DTSTART;TZID=America/Los_Angeles:20220430T083000
DTEND;TZID=America/Los_Angeles:20220430T230000
DTSTAMP:20260419T112332
CREATED:20220402T231927Z
LAST-MODIFIED:20220402T231927Z
UID:7955-1651307400-1651359600@wila.haasalumni.org
SUMMARY:Berkeley Haas Alumni Conference
DESCRIPTION:WILA will be at the Berkeley Haas Alumni Conference! \nCome visit us at the WILA table in the Bank of America Forum at 12:00 pm during the Lunch & Berkeley Haas Alumni Benefits Expo.
URL:https://wila.haasalumni.org/event/berkeley-haas-alumni-conference/
ATTACH;FMTTYPE=image/jpeg:https://wila.haasalumni.org/files/2022/04/bac_420a-scaled.jpg
END:VEVENT
END:VCALENDAR